BEGIN:VCALENDAR
VERSION:2.0
PRODID:-//Neon Owl - ECPv6.15.20//NONSGML v1.0//EN
CALSCALE:GREGORIAN
METHOD:PUBLISH
X-ORIGINAL-URL:https://neonowl.co
X-WR-CALDESC:Events for Neon Owl
REFRESH-INTERVAL;VALUE=DURATION:PT1H
X-Robots-Tag:noindex
X-PUBLISHED-TTL:PT1H
BEGIN:VTIMEZONE
TZID:America/Denver
BEGIN:DAYLIGHT
TZOFFSETFROM:-0700
TZOFFSETTO:-0600
TZNAME:MDT
DTSTART:20230312T090000
END:DAYLIGHT
BEGIN:STANDARD
TZOFFSETFROM:-0600
TZOFFSETTO:-0700
TZNAME:MST
DTSTART:20231105T080000
END:STANDARD
BEGIN:DAYLIGHT
TZOFFSETFROM:-0700
TZOFFSETTO:-0600
TZNAME:MDT
DTSTART:20240310T090000
END:DAYLIGHT
BEGIN:STANDARD
TZOFFSETFROM:-0600
TZOFFSETTO:-0700
TZNAME:MST
DTSTART:20241103T080000
END:STANDARD
BEGIN:DAYLIGHT
TZOFFSETFROM:-0700
TZOFFSETTO:-0600
TZNAME:MDT
DTSTART:20250309T090000
END:DAYLIGHT
BEGIN:STANDARD
TZOFFSETFROM:-0600
TZOFFSETTO:-0700
TZNAME:MST
DTSTART:20251102T080000
END:STANDARD
END:VTIMEZONE
BEGIN:VEVENT
DTSTART;TZID=America/Denver:20241011T210000
DTEND;TZID=America/Denver:20241012T020000
DTSTAMP:20260425T065626
CREATED:20241002T182910Z
LAST-MODIFIED:20241005T005313Z
UID:20216-1728680400-1728698400@neonowl.co
SUMMARY:Neon Owl Presents After Dark: Dea Magna | Mauro Somm
DESCRIPTION:Neon Owl Presents: After Dark\n10.11.24. | 9p-2a \nMonarch | San Francisco \nDEA MAGNA | MAURO SOMM\nJUSTJOVANI | KELLY VERSE B2B TARA | NICOLE CAYENNE B2B WONX \nDIRTY D | HEL | VANI | DJ STEFAN ARONSEN | FATHER GLASS B2B KANELA \nTICKETS HERE Neon Owl is hosting another episode of our AFTER DARK series after Open Door Sessions going from 9pm-2am. \n◊ \nYou can come join us from 4pm-9pm for Open Door Sessions (ODS+show combo tix available) with some of the amazing panelists! \nhttps://neonowl.co/event/ods54/
URL:https://neonowl.co/event/after-dark-sf-10-11-24/
LOCATION:Monarch\, 101 6th St\, San Francisco\, CA\, 94103\, United States
CATEGORIES:shows
ATTACH;FMTTYPE=image/png:https://neonowl.co/wp-content/uploads/2024/10/Neon-Owl-After-Dark-Monarch-101124-neonowlco-portrait.png
END:VEVENT
END:VCALENDAR