BEGIN:VCALENDAR
VERSION:2.0
PRODID:-//Neon Owl - ECPv6.15.20//NONSGML v1.0//EN
CALSCALE:GREGORIAN
METHOD:PUBLISH
X-WR-CALNAME:Neon Owl
X-ORIGINAL-URL:https://neonowl.co
X-WR-CALDESC:Events for Neon Owl
REFRESH-INTERVAL;VALUE=DURATION:PT1H
X-Robots-Tag:noindex
X-PUBLISHED-TTL:PT1H
BEGIN:VTIMEZONE
TZID:America/Los_Angeles
BEGIN:DAYLIGHT
TZOFFSETFROM:-0800
TZOFFSETTO:-0700
TZNAME:PDT
DTSTART:20230312T100000
END:DAYLIGHT
BEGIN:STANDARD
TZOFFSETFROM:-0700
TZOFFSETTO:-0800
TZNAME:PST
DTSTART:20231105T090000
END:STANDARD
BEGIN:DAYLIGHT
TZOFFSETFROM:-0800
TZOFFSETTO:-0700
TZNAME:PDT
DTSTART:20240310T100000
END:DAYLIGHT
BEGIN:STANDARD
TZOFFSETFROM:-0700
TZOFFSETTO:-0800
TZNAME:PST
DTSTART:20241103T090000
END:STANDARD
BEGIN:DAYLIGHT
TZOFFSETFROM:-0800
TZOFFSETTO:-0700
TZNAME:PDT
DTSTART:20250309T100000
END:DAYLIGHT
BEGIN:STANDARD
TZOFFSETFROM:-0700
TZOFFSETTO:-0800
TZNAME:PST
DTSTART:20251102T090000
END:STANDARD
END:VTIMEZONE
BEGIN:VEVENT
DTSTART;TZID=America/Los_Angeles:20240706T140000
DTEND;TZID=America/Los_Angeles:20240706T220000
DTSTAMP:20260425T033448
CREATED:20240606T053201Z
LAST-MODIFIED:20240606T053201Z
UID:19698-1720274400-1720303200@neonowl.co
SUMMARY:Midway IllUM Block Party Alesso - Neon Owl TAKEOVER RiDE
DESCRIPTION:Midway SF: Illum Block Party 2024 \nSaturday July 6th\, 2024\n◊ \nALESSO | BODY HI | AC SLATER | LAVERN | JOHN ALTO | DWATA \n◊ \nRiDE STAGE: NEON OWL TAKEOVER\nBLKLGHT / REZNOR / KNIVES / SALENIE / DREAMSHADOW \nTIFFVNYJOY B2B AB5YNTH / TARA B2B AASH \nCODE “NEONOWL” FOR 20% OFFUse code “NEONOWL” for 20% off tix!\nhttps://tixr.com/pr/owl/102113 \nTICKETS HERE“NEONOWL” FOR 20% OFF
URL:https://neonowl.co/event/midway-illum-alesso-neon-owl-takeover/
LOCATION:The Midway SF\, 900 Marin St\, San Francisco\, CA\, 94124\, United States
CATEGORIES:shows
ATTACH;FMTTYPE=image/jpeg:https://neonowl.co/wp-content/uploads/2024/06/The-Midway-Illum-Block-Party-2024-Alesso-Neon-Owl-Takeover-neonowlco.jpg
END:VEVENT
BEGIN:VEVENT
DTSTART;TZID=America/Los_Angeles:20240623T130000
DTEND;TZID=America/Los_Angeles:20240623T180000
DTSTAMP:20260425T033448
CREATED:20240529T221729Z
LAST-MODIFIED:20240531T210232Z
UID:19597-1719147600-1719165600@neonowl.co
SUMMARY:Summertime Radness: Surf Mesa
DESCRIPTION:Summertime Radness 2024 at the Phoenix Hotel \nSurf Mesa | truekolors | DIRTY D & JAAG \nTICKETS HERE
URL:https://neonowl.co/event/summertime-radness-surf-mesa/
LOCATION:Phoenix Hotel\, 601 Eddy St\, San Francisco\, CA\, 94109\, United States
CATEGORIES:shows
ATTACH;FMTTYPE=image/jpeg:https://neonowl.co/wp-content/uploads/2024/05/DJ-Dials-15Utah-Summertime-Radness-Phoenix-Hotel-2024-Surf-Mesa-truekolors-neonowlco.jpg
END:VEVENT
BEGIN:VEVENT
DTSTART;TZID=America/Los_Angeles:20240608T220000
DTEND;TZID=America/Los_Angeles:20240609T020000
DTSTAMP:20260425T033448
CREATED:20240531T004437Z
LAST-MODIFIED:20240605T222139Z
UID:19650-1717884000-1717898400@neonowl.co
SUMMARY:YOLO x Neon Owl: Industry Night
DESCRIPTION:YOLO x Neon Owl: Industry Night \nRON REESER | AB5YNTH | DILA | FOXBOX | HIGHMAGS \n06.08.24. \nTICKETS HERE
URL:https://neonowl.co/event/yolo-neon-owl-industry-night/
LOCATION:YOLO Nightclub\, 333 11th St\, San Francisco\, 94103\, United States
CATEGORIES:shows
ATTACH;FMTTYPE=image/jpeg:https://neonowl.co/wp-content/uploads/2024/05/Neon-Owl-x-YOLO-Industry-Night-Ron-Reeser-06082024-Standard.jpg
END:VEVENT
END:VCALENDAR